BEGIN:VCALENDAR
VERSION:2.0
PRODID:-// - ECPv6.9.0//NONSGML v1.0//EN
CALSCALE:GREGORIAN
METHOD:PUBLISH
X-ORIGINAL-URL:https://rivmed.org.au
X-WR-CALDESC:Events for 
REFRESH-INTERVAL;VALUE=DURATION:PT1H
X-Robots-Tag:noindex
X-PUBLISHED-TTL:PT1H
BEGIN:VTIMEZONE
TZID:Australia/Sydney
BEGIN:STANDARD
TZOFFSETFROM:+1100
TZOFFSETTO:+1000
TZNAME:AEST
DTSTART:20310405T160000
END:STANDARD
BEGIN:DAYLIGHT
TZOFFSETFROM:+1000
TZOFFSETTO:+1100
TZNAME:AEDT
DTSTART:20311004T160000
END:DAYLIGHT
END:VTIMEZONE
BEGIN:VEVENT
DTSTART;TZID=Australia/Sydney:20310415T100000
DTEND;TZID=Australia/Sydney:20310415T120000
DTSTAMP:20260423T033723
CREATED:20250211T063927Z
LAST-MODIFIED:20260416T022645Z
UID:10004493-1934013600-1934020800@rivmed.org.au
SUMMARY:RIVMED Aboriginal Supported Playgroup | Wagga Wagga
DESCRIPTION:Join us every Tuesday at the Tolland Community Centre for a fun and enriching experience where your little ones can learn\, grow\, and connect! \n🗓️ Every Tuesday (excluding school holidays)\n⏰ 10am – 12pm\n📍 Tolland Community Centre \nEnjoy a welcoming environment with fun activities. \nMorning tea provided. \nFor more information:\n☎️ Sally-Jo at 0498 549 476
URL:https://rivmed.org.au/event/calling-rivmed-aboriginal-supported-playgroup/2031-04-15/
ATTACH;FMTTYPE=image/webp:https://rivmed.org.au/wp-content/uploads/2025/02/RivMed_Playgroup_A3_Supported_Playgroup_A3.webp
END:VEVENT
BEGIN:VEVENT
DTSTART;TZID=Australia/Sydney:20310416T100000
DTEND;TZID=Australia/Sydney:20310416T140000
DTSTAMP:20260423T033723
CREATED:20260415T002704Z
LAST-MODIFIED:20260416T023326Z
UID:10005005-1934100000-1934114400@rivmed.org.au
SUMMARY:Koori Migay | Women's Healing Program
DESCRIPTION:Koori Migay is a space for women to come together\, reconnect with Wiradjuri culture and support one another through creativity\, learning and shared experiences. This weekly program supports healing through cultural reconnection while building strong community and intergenerational bonds as we prepare together for a community Corroboree in 2026. \nActivities include:• Aboriginal dance workshops• Ochre preparation and body art• Traditional weaving and jewellery making• Bush food cooking circles• Yarning circles and peer support \n🕙 Wednesdays (excluding school holidays) | 10:00am – 2:00pm📍 Location varies \n🍽 Shared meals provided each session \nWe welcome women of all ages and backgrounds. \nFor more information or to register:☎ Lindy Malcolm – (02) 6923 5200📧 Lindy.Malcolm@rivmed.org.au
URL:https://rivmed.org.au/event/womens-healing-program-2/2031-04-16/
ATTACH;FMTTYPE=image/png:https://rivmed.org.au/wp-content/uploads/2026/03/Koori-Migay-Facebook-Post-1-scaled.png
END:VEVENT
END:VCALENDAR