BEGIN:VCALENDAR
VERSION:2.0
PRODID:-// - ECPv6.9.0//NONSGML v1.0//EN
CALSCALE:GREGORIAN
METHOD:PUBLISH
X-ORIGINAL-URL:https://rivmed.org.au
X-WR-CALDESC:Events for 
REFRESH-INTERVAL;VALUE=DURATION:PT1H
X-Robots-Tag:noindex
X-PUBLISHED-TTL:PT1H
BEGIN:VTIMEZONE
TZID:Australia/Sydney
BEGIN:STANDARD
TZOFFSETFROM:+1100
TZOFFSETTO:+1000
TZNAME:AEST
DTSTART:20310405T160000
END:STANDARD
BEGIN:DAYLIGHT
TZOFFSETFROM:+1000
TZOFFSETTO:+1100
TZNAME:AEDT
DTSTART:20311004T160000
END:DAYLIGHT
END:VTIMEZONE
BEGIN:VEVENT
DTSTART;TZID=Australia/Sydney:20310320T153000
DTEND;TZID=Australia/Sydney:20310320T163000
DTSTAMP:20260422T223856
CREATED:20260416T020919Z
LAST-MODIFIED:20260416T023757Z
UID:10004625-1931787000-1931790600@rivmed.org.au
SUMMARY:Junee After School Activity
DESCRIPTION:Join us for a fun-filled hour of creativity\, learning\, and new friendships at Junee After-School Activities every Thursday! \n🗓️ Every second Thursday (excluding school holidays)\n⏰ 3:30pm – 4:30pm\n📍 Junee Library \nCome along and invite your friends! \nFor more information:\n☎️ Sally-Jo at 0498 549 476
URL:https://rivmed.org.au/event/june-after-school-activity-2-2/2031-03-20/
ATTACH;FMTTYPE=image/webp:https://rivmed.org.au/wp-content/uploads/2025/02/Junee-After-School-Acitivity.webp
END:VEVENT
BEGIN:VEVENT
DTSTART;TZID=Australia/Sydney:20310320T163000
DTEND;TZID=Australia/Sydney:20310320T183000
DTSTAMP:20260422T223856
CREATED:20260210T152725Z
LAST-MODIFIED:20260415T005818Z
UID:10004494-1931790600-1931797800@rivmed.org.au
SUMMARY:Youth Group
DESCRIPTION:Youth Group is a relaxed space for young people to hang out\, connect with friends and get involved in fun activities. It’s a chance to meet other young people\, try new things\, get creative and build confidence in a supportive environment. \nEach session includes different activities\, games and opportunities to yarn with youth workers and other young people from community. \nAll young people aged 10–17 are welcome. \n  \n📅 Every second Thursday\n⏰ 4:30pm – 6:30pm\n🧑‍🤝‍🧑 Ages 10–17\n🚐 Transport available \nFor more info or to sign up:\n☎️ Dion – 0488 235 450\n☎️ Sally-Jo – 0498 549 476
URL:https://rivmed.org.au/event/youth-group/2031-03-20/
ATTACH;FMTTYPE=image/png:https://rivmed.org.au/wp-content/uploads/2026/02/Socials-Youth-Group-scaled.png
END:VEVENT
END:VCALENDAR