BEGIN:VCALENDAR
VERSION:2.0
PRODID:-// - ECPv6.9.0//NONSGML v1.0//EN
CALSCALE:GREGORIAN
METHOD:PUBLISH
X-ORIGINAL-URL:https://rivmed.org.au
X-WR-CALDESC:Events for 
REFRESH-INTERVAL;VALUE=DURATION:PT1H
X-Robots-Tag:noindex
X-PUBLISHED-TTL:PT1H
BEGIN:VTIMEZONE
TZID:Australia/Sydney
BEGIN:STANDARD
TZOFFSETFROM:+1100
TZOFFSETTO:+1000
TZNAME:AEST
DTSTART:20260404T160000
END:STANDARD
BEGIN:DAYLIGHT
TZOFFSETFROM:+1000
TZOFFSETTO:+1100
TZNAME:AEDT
DTSTART:20261003T160000
END:DAYLIGHT
END:VTIMEZONE
BEGIN:VEVENT
DTSTART;TZID=Australia/Sydney:20260422T100000
DTEND;TZID=Australia/Sydney:20260422T140000
DTSTAMP:20260422T024726
CREATED:20260210T145010Z
LAST-MODIFIED:20260415T004656Z
UID:10003693-1776852000-1776866400@rivmed.org.au
SUMMARY:Get Active | Weekly Fitness Program
DESCRIPTION:Looking for a way to stay active and feel deadly? Join us for our Get Active program every Wednesday for a fun and energising session! \nRegular physical activity supports stronger bodies\, clearer minds and better social and emotional wellbeing. Movement can help reduce stress\, improve energy and sleep\, strengthen connection with others and lower the risk of chronic illness. Even 20–30 minutes of movement each day can make a real difference. Sign up and book in today. \n🗓️ Every Wednesday\n⏰ 10am – 2pm\n📍 Location varies \nTransport is available. \nFor more information\, contact:  \n☎️ Shane on 0455 083 928
URL:https://rivmed.org.au/event/%f0%9f%92%aa%f0%9f%8f%be-get-active-with-rivmed-every-wednesday-2/2026-04-22/
ATTACH;FMTTYPE=image/png:https://rivmed.org.au/wp-content/uploads/2025/02/Socials-Get-Active-scaled.png
END:VEVENT
BEGIN:VEVENT
DTSTART;TZID=Australia/Sydney:20260422T100000
DTEND;TZID=Australia/Sydney:20260422T140000
DTSTAMP:20260422T024726
CREATED:20260415T002704Z
LAST-MODIFIED:20260416T023326Z
UID:10004206-1776852000-1776866400@rivmed.org.au
SUMMARY:Koori Migay | Women's Healing Program
DESCRIPTION:Koori Migay is a space for women to come together\, reconnect with Wiradjuri culture and support one another through creativity\, learning and shared experiences. This weekly program supports healing through cultural reconnection while building strong community and intergenerational bonds as we prepare together for a community Corroboree in 2026. \nActivities include:• Aboriginal dance workshops• Ochre preparation and body art• Traditional weaving and jewellery making• Bush food cooking circles• Yarning circles and peer support \n🕙 Wednesdays (excluding school holidays) | 10:00am – 2:00pm📍 Location varies \n🍽 Shared meals provided each session \nWe welcome women of all ages and backgrounds. \nFor more information or to register:☎ Lindy Malcolm – (02) 6923 5200📧 Lindy.Malcolm@rivmed.org.au
URL:https://rivmed.org.au/event/womens-healing-program-2/2026-04-22/
ATTACH;FMTTYPE=image/png:https://rivmed.org.au/wp-content/uploads/2026/03/Koori-Migay-Facebook-Post-1-scaled.png
END:VEVENT
END:VCALENDAR